BEGIN:VCALENDAR
VERSION:2.0
PRODID:-//Plone.org//NONSGML plone.app.event//EN
X-WR-TIMEZONE:Europe/Berlin
BEGIN:VEVENT
SUMMARY:Online Seminar: Dorm Life 101
DTSTART;TZID=Europe/Berlin:20250214T100000
DTEND;TZID=Europe/Berlin:20250214T113000
DTSTAMP:20260424T094837Z
UID:a82f5201f5814e6cb551bf50c05e1087@www.uni-marburg.de
CREATED:20230207T184955Z
DESCRIPTION:https://www.uni-marburg.de/de/international/news-international
 /termine/2025/online-seminar-dormitory-information-februar\n
LAST-MODIFIED:20250905T093954Z
LOCATION:https://webconf.hrz.uni-marburg.de/n/rooms/tme-pbk-9co-wrt/join
URL:https://www.uni-marburg.de/de/international/news-international/termine
 /2025/online-seminar-dormitory-information-februar
END:VEVENT
BEGIN:VTIMEZONE
TZID:Europe/Berlin
X-LIC-LOCATION:Europe/Berlin
BEGIN:STANDARD
DTSTART:20241027T020000
TZNAME:CET
TZOFFSETFROM:+0200
TZOFFSETTO:+0100
END:STANDARD
END:VTIMEZONE
END:VCALENDAR
