BEGIN:VCALENDAR
VERSION:2.0
PRODID:-//Plone.org//NONSGML plone.app.event//EN
X-WR-TIMEZONE:Europe/Berlin
BEGIN:VEVENT
SUMMARY:International Student Orientation / Orientierungsprogramm für aus
 ländische Studierende
DTSTART;VALUE=DATE:20251001
DTEND;VALUE=DATE:20251009
DTSTAMP:20260424T142606Z
UID:fc603f5c61594049af82de40d4f2e5df@www.uni-marburg.de
CREATED:20250818T121748Z
DESCRIPTION:https://www.uni-marburg.de/de/international/news-international
 /termine/2025/orientierungsprogramm-fuer-auslaendische-studierende-oktober
 \n
LAST-MODIFIED:20250905T095021Z
LOCATION:siehe Programm
URL:https://www.uni-marburg.de/de/international/news-international/termine
 /2025/orientierungsprogramm-fuer-auslaendische-studierende-oktober
END:VEVENT
END:VCALENDAR
