BEGIN:VCALENDAR
VERSION:2.0
PRODID:-//Plone.org//NONSGML plone.app.event//EN
X-WR-TIMEZONE:Europe/Berlin
BEGIN:VEVENT
SUMMARY:Peer-Sprechstunde: Jobsuche & Stipendienberatung
DTSTART;TZID=Europe/Berlin:20251013T130000
DTEND;TZID=Europe/Berlin:20251013T140000
DTSTAMP:20260425T164040Z
UID:5a698e8ed3154b648ca27db51c4d74ae@www.uni-marburg.de
RRULE:FREQ=WEEKLY;UNTIL=20251219T000000;BYDAY=MO
EXDATE;TZID=Europe/Berlin:20251124T130000,20250818T130000
CATEGORIES:()
CREATED:20250416T114717Z
DESCRIPTION:https://www.uni-marburg.de/de/international/news-international
 /termine/2025/peer-sprechstunde-jobsuche-stipendienberatung\nFür internat
 ionale Studierende (Degree-Seeker\, keine Austausch-Studierende oder Freem
 over)
LAST-MODIFIED:20251124T073117Z
LOCATION:Bunsenstraße 3\, 35037 Marburg\, Raum 410/411
URL:https://www.uni-marburg.de/de/international/news-international/termine
 /2025/peer-sprechstunde-jobsuche-stipendienberatung
END:VEVENT
BEGIN:VTIMEZONE
TZID:Europe/Berlin
X-LIC-LOCATION:Europe/Berlin
BEGIN:DAYLIGHT
DTSTART:20250330T030000
TZNAME:CEST
TZOFFSETFROM:+0100
TZOFFSETTO:+0200
END:DAYLIGHT
END:VTIMEZONE
END:VCALENDAR
