BEGIN:VCALENDAR
VERSION:2.0
PRODID:-//Plone.org//NONSGML plone.app.event//EN
X-WR-TIMEZONE:Europe/Berlin
BEGIN:VEVENT
SUMMARY:Persönlicher Erfahrungsbericht der journalistischen Arbeit in der
  VR China
DTSTART;TZID=Europe/Berlin:20251021T110000
DTEND;TZID=Europe/Berlin:20251021T120000
DTSTAMP:20260425T044420Z
UID:83a43ad9df294aa5a3d10c2ee31c9567@www.uni-marburg.de
CREATED:20251013T102823Z
DESCRIPTION:https://www.uni-marburg.de/de/international/news-international
 /termine/2025/persoenlicher-erfahrungsbericht-der-journalistischen-arbeit-
 in-der-vr-china\n
LAST-MODIFIED:20251013T102836Z
LOCATION:Online
URL:https://www.uni-marburg.de/de/international/news-international/termine
 /2025/persoenlicher-erfahrungsbericht-der-journalistischen-arbeit-in-der-v
 r-china
END:VEVENT
BEGIN:VTIMEZONE
TZID:Europe/Berlin
X-LIC-LOCATION:Europe/Berlin
BEGIN:DAYLIGHT
DTSTART:20250330T030000
TZNAME:CEST
TZOFFSETFROM:+0100
TZOFFSETTO:+0200
END:DAYLIGHT
END:VTIMEZONE
END:VCALENDAR
