BEGIN:VCALENDAR
VERSION:2.0
PRODID:-//Plone.org//NONSGML plone.app.event//EN
X-WR-TIMEZONE:Europe/Berlin
BEGIN:VEVENT
SUMMARY:Research Security in Sino-German Collaboration: Key Considerations
  and an Open-Source Institutional Mapping Approach
DTSTART;TZID=Europe/Berlin:20251015T133000
DTEND;TZID=Europe/Berlin:20251015T143000
DTSTAMP:20260423T174944Z
UID:a9c2834b2ff04dfda4d72b3f92727faa@www.uni-marburg.de
CREATED:20251013T102346Z
DESCRIPTION:https://www.uni-marburg.de/de/international/news-international
 /termine/2025/research-security-in-sino-german-collaboration-key-considera
 tions-and-an-open-source-institutional-mapping-approach\n
LAST-MODIFIED:20251013T102359Z
LOCATION:Online
URL:https://www.uni-marburg.de/de/international/news-international/termine
 /2025/research-security-in-sino-german-collaboration-key-considerations-an
 d-an-open-source-institutional-mapping-approach
END:VEVENT
BEGIN:VTIMEZONE
TZID:Europe/Berlin
X-LIC-LOCATION:Europe/Berlin
BEGIN:DAYLIGHT
DTSTART:20250330T030000
TZNAME:CEST
TZOFFSETFROM:+0100
TZOFFSETTO:+0200
END:DAYLIGHT
END:VTIMEZONE
END:VCALENDAR
