BEGIN:VCALENDAR
VERSION:2.0
PRODID:-//Plone.org//NONSGML plone.app.event//EN
X-WR-TIMEZONE:Europe/Berlin
BEGIN:VEVENT
SUMMARY:Workshop: Speak like a Pro: Public Speaking and Presentation Skill
 s for Academic and Career Success
DTSTART;TZID=Europe/Berlin:20250428T140000
DTEND;TZID=Europe/Berlin:20250428T180000
DTSTAMP:20260421T084557Z
UID:211b2fd57fd843c1904fa30a41566bf6@www.uni-marburg.de
CREATED:20250304T123029Z
DESCRIPTION:https://www.uni-marburg.de/de/international/news-international
 /termine/2025/speak-like-a-pro\nWorkshop for degree-seeking international 
 students
LAST-MODIFIED:20250905T094006Z
LOCATION:Deutschhausstraße 11+13\, 35037 Marburg\, Raum +01.0010
URL:https://www.uni-marburg.de/de/international/news-international/termine
 /2025/speak-like-a-pro
END:VEVENT
BEGIN:VTIMEZONE
TZID:Europe/Berlin
X-LIC-LOCATION:Europe/Berlin
BEGIN:DAYLIGHT
DTSTART:20250330T030000
TZNAME:CEST
TZOFFSETFROM:+0100
TZOFFSETTO:+0200
END:DAYLIGHT
END:VTIMEZONE
END:VCALENDAR
