BEGIN:VCALENDAR
VERSION:2.0
PRODID:-//Plone.org//NONSGML plone.app.event//EN
X-WR-TIMEZONE:Europe/Berlin
BEGIN:VEVENT
SUMMARY:Student Info Session Series #1 We are EUPeace – Welcome to the A
 lliance!
DTSTART;TZID=Europe/Berlin:20251016T170000
DTSTAMP:20260425T045646Z
UID:fe54bad069a14aa48284e33403a4f756@www.uni-marburg.de
CATEGORIES:()
CREATED:20251014T085902Z
DESCRIPTION:https://www.uni-marburg.de/de/international/news-international
 /termine/2025/student-info-session-series-1-we-are-eupeace-welcome-to-the-
 alliance\n
LAST-MODIFIED:20251014T090019Z
LOCATION:Online https://webconf.hrz.uni-marburg.de/n/rooms/yyg-f9y-6nl-u4a
 /join
URL:https://www.uni-marburg.de/de/international/news-international/termine
 /2025/student-info-session-series-1-we-are-eupeace-welcome-to-the-alliance
END:VEVENT
BEGIN:VTIMEZONE
TZID:Europe/Berlin
X-LIC-LOCATION:Europe/Berlin
BEGIN:DAYLIGHT
DTSTART:20250330T030000
TZNAME:CEST
TZOFFSETFROM:+0100
TZOFFSETTO:+0200
END:DAYLIGHT
END:VTIMEZONE
END:VCALENDAR
