BEGIN:VCALENDAR
VERSION:2.0
PRODID:-//Plone.org//NONSGML plone.app.event//EN
X-WR-TIMEZONE:Europe/Berlin
BEGIN:VEVENT
SUMMARY:Student Info Session Series #3 Why the EUPeace partners are worth 
 a visit!  PART II
DTSTART;TZID=Europe/Berlin:20251105T170000
DTSTAMP:20260425T012623Z
UID:91666c6378324784960445bbb99f6524@www.uni-marburg.de
CREATED:20251014T091654Z
DESCRIPTION:https://www.uni-marburg.de/de/international/news-international
 /termine/2025/student-info-session-series-3-why-the-eupeace-partners-are-w
 orth-a-visit-part-ii\n
LAST-MODIFIED:20251014T091710Z
LOCATION:Online https://webconf.hrz.uni-marburg.de/n/rooms/yyg-f9y-6nl-u4a
 /join
URL:https://www.uni-marburg.de/de/international/news-international/termine
 /2025/student-info-session-series-3-why-the-eupeace-partners-are-worth-a-v
 isit-part-ii
END:VEVENT
BEGIN:VTIMEZONE
TZID:Europe/Berlin
X-LIC-LOCATION:Europe/Berlin
BEGIN:STANDARD
DTSTART:20251026T020000
TZNAME:CET
TZOFFSETFROM:+0200
TZOFFSETTO:+0100
END:STANDARD
END:VTIMEZONE
END:VCALENDAR
