BEGIN:VCALENDAR
VERSION:2.0
PRODID:-//Plone.org//NONSGML plone.app.event//EN
X-WR-TIMEZONE:Europe/Berlin
BEGIN:VEVENT
SUMMARY:Student Info Session Series #4 The Mobility Portal: Your gateway t
 o EUPeace mobilities
DTSTART;TZID=Europe/Berlin:20251120T170000
DTSTAMP:20260425T001757Z
UID:a0940afb41d442b1922c37fc38e32d43@www.uni-marburg.de
CREATED:20251014T092354Z
DESCRIPTION:https://www.uni-marburg.de/de/international/news-international
 /termine/2025/student-info-session-series-4-the-mobility-portal-your-gatew
 ay-to-eupeace-mobilities\n
LAST-MODIFIED:20251014T092406Z
LOCATION:Online https://webconf.hrz.uni-marburg.de/n/rooms/yyg-f9y-6nl-u4a
 /join
URL:https://www.uni-marburg.de/de/international/news-international/termine
 /2025/student-info-session-series-4-the-mobility-portal-your-gateway-to-eu
 peace-mobilities
END:VEVENT
BEGIN:VTIMEZONE
TZID:Europe/Berlin
X-LIC-LOCATION:Europe/Berlin
BEGIN:STANDARD
DTSTART:20251026T020000
TZNAME:CET
TZOFFSETFROM:+0200
TZOFFSETTO:+0100
END:STANDARD
END:VTIMEZONE
END:VCALENDAR
