BEGIN:VCALENDAR
VERSION:2.0
PRODID:-//Plone.org//NONSGML plone.app.event//EN
X-WR-TIMEZONE:Europe/Berlin
BEGIN:VEVENT
SUMMARY:Student Info Session Series #5 Study abroad without getting homesi
 ck – with the Virtual European Exchange Programme
DTSTART;TZID=Europe/Berlin:20251202T170000
DTSTAMP:20260424T045421Z
UID:24357730319e4a14a9d0e0b3aeaa9f12@www.uni-marburg.de
CREATED:20251014T093527Z
DESCRIPTION:https://www.uni-marburg.de/de/international/news-international
 /termine/2025/student-info-session-series-5-study-abroad-without-getting-h
 omesick-with-the-virtual-european-exchange-programme\n
LAST-MODIFIED:20251014T093540Z
LOCATION:Online https://webconf.hrz.uni-marburg.de/n/rooms/yyg-f9y-6nl-u4a
 /join
URL:https://www.uni-marburg.de/de/international/news-international/termine
 /2025/student-info-session-series-5-study-abroad-without-getting-homesick-
 with-the-virtual-european-exchange-programme
END:VEVENT
BEGIN:VTIMEZONE
TZID:Europe/Berlin
X-LIC-LOCATION:Europe/Berlin
BEGIN:STANDARD
DTSTART:20251026T020000
TZNAME:CET
TZOFFSETFROM:+0200
TZOFFSETTO:+0100
END:STANDARD
END:VTIMEZONE
END:VCALENDAR
