BEGIN:VCALENDAR
VERSION:2.0
PRODID:-//Plone.org//NONSGML plone.app.event//EN
X-WR-TIMEZONE:Europe/Berlin
BEGIN:VEVENT
SUMMARY:Student Info Session Series #6 Mobility offers for Teacher Trainin
 g Students
DTSTART;TZID=Europe/Berlin:20251217T170000
DTSTAMP:20260421T192203Z
UID:f37b7b0e920a4972b1626700d4b99267@www.uni-marburg.de
CREATED:20251014T093948Z
DESCRIPTION:https://www.uni-marburg.de/de/international/news-international
 /termine/2025/student-info-session-series-6-mobility-offers-for-teacher-tr
 aining-students\n
LAST-MODIFIED:20251014T093957Z
LOCATION:Online https://webconf.hrz.uni-marburg.de/n/rooms/yyg-f9y-6nl-u4a
 /join
URL:https://www.uni-marburg.de/de/international/news-international/termine
 /2025/student-info-session-series-6-mobility-offers-for-teacher-training-s
 tudents
END:VEVENT
BEGIN:VTIMEZONE
TZID:Europe/Berlin
X-LIC-LOCATION:Europe/Berlin
BEGIN:STANDARD
DTSTART:20251026T020000
TZNAME:CET
TZOFFSETFROM:+0200
TZOFFSETTO:+0100
END:STANDARD
END:VTIMEZONE
END:VCALENDAR
