BEGIN:VCALENDAR
VERSION:2.0
PRODID:-//Plone.org//NONSGML plone.app.event//EN
X-WR-TIMEZONE:Europe/Berlin
BEGIN:VEVENT
SUMMARY:Study Abroad Fair 2025
DTSTART;TZID=Europe/Berlin:20251021T160000
DTEND;TZID=Europe/Berlin:20251021T180000
DTSTAMP:20260421T181523Z
UID:62bca5c8a12f425c8a838a9fca14d6b9@www.uni-marburg.de
CREATED:20250917T102738Z
DESCRIPTION:https://www.uni-marburg.de/de/international/news-international
 /termine/2025/study-abroad-fair-2025\nDu spielst mit dem Gedanken ein oder
  zwei Semester im Ausland zu studieren? Die Study Abroad Fair bietet dir d
 ie Gelegenheit dich rund um das Thema Auslandsaufenthalt zu informieren.
LAST-MODIFIED:20250918T125507Z
LOCATION:Foyer der Mensa am Erlenring 5\, 35037 Marburg
URL:https://www.uni-marburg.de/de/international/news-international/termine
 /2025/study-abroad-fair-2025
END:VEVENT
BEGIN:VTIMEZONE
TZID:Europe/Berlin
X-LIC-LOCATION:Europe/Berlin
BEGIN:DAYLIGHT
DTSTART:20250330T030000
TZNAME:CEST
TZOFFSETFROM:+0100
TZOFFSETTO:+0200
END:DAYLIGHT
END:VTIMEZONE
END:VCALENDAR
