BEGIN:VCALENDAR
VERSION:2.0
PRODID:-//Plone.org//NONSGML plone.app.event//EN
X-WR-TIMEZONE:Europe/Berlin
BEGIN:VEVENT
SUMMARY:Tutorial for International Students of the Department of Business 
 and Economics
DTSTART;VALUE=DATE:20250509
DTEND;VALUE=DATE:20250510
DTSTAMP:20260421T032704Z
UID:22e4646548ec430f9ab0a81f2c0de65e@www.uni-marburg.de
RRULE:FREQ=DAILY;UNTIL=20250517T000000
RDATE:20250510,20250516
EXDATE:20250511,20250512,20250513,20250514,20250515
CREATED:20250424T082411Z
DESCRIPTION:https://www.uni-marburg.de/de/international/news-international
 /termine/2025/tutorial-business-and-economics\nTutorial for international 
 degree-seeking students from faculty 02
LAST-MODIFIED:20250905T094009Z
LOCATION:On campus – the room will be announced after registration.
URL:https://www.uni-marburg.de/de/international/news-international/termine
 /2025/tutorial-business-and-economics
END:VEVENT
END:VCALENDAR
