BEGIN:VCALENDAR
VERSION:2.0
PRODID:-//Plone.org//NONSGML plone.app.event//EN
X-WR-TIMEZONE:Europe/Berlin
BEGIN:VEVENT
SUMMARY:Tutorial for international Master students of informatics and math
 ematics
DTSTART;TZID=Europe/Berlin:20250606T110000
DTEND;TZID=Europe/Berlin:20250606T140000
DTSTAMP:20260421T050056Z
UID:fe1dfeedc57040c6af12dc3a2598f7b9@www.uni-marburg.de
RRULE:FREQ=DAILY;COUNT=1
RDATE;TZID=Europe/Berlin:20250606T110000,20250612T110000,20250613T110000,2
 0250627T110000,20250703T110000,20250704T110000
CREATED:20250521T081948Z
DESCRIPTION:https://www.uni-marburg.de/de/international/news-international
 /termine/2025/tutorial-for-international-master-students-of-informatics-an
 d-mathematics\n
LAST-MODIFIED:20250905T094012Z
LOCATION:Online (only 1. session in presence)
URL:https://www.uni-marburg.de/de/international/news-international/termine
 /2025/tutorial-for-international-master-students-of-informatics-and-mathem
 atics
END:VEVENT
BEGIN:VTIMEZONE
TZID:Europe/Berlin
X-LIC-LOCATION:Europe/Berlin
BEGIN:DAYLIGHT
DTSTART:20250330T030000
TZNAME:CEST
TZOFFSETFROM:+0100
TZOFFSETTO:+0200
END:DAYLIGHT
END:VTIMEZONE
END:VCALENDAR
