BEGIN:VCALENDAR
VERSION:2.0
PRODID:-//Plone.org//NONSGML plone.app.event//EN
X-WR-TIMEZONE:Europe/Berlin
BEGIN:VEVENT
SUMMARY:Tutorial for International Students of the Master of North-America
 n Studies
DTSTART;TZID=Europe/Berlin:20250929T140000
DTEND;TZID=Europe/Berlin:20250929T173000
DTSTAMP:20260425T002800Z
UID:a62b3d878177477fb1fb3b54355b66ad@www.uni-marburg.de
RRULE:FREQ=DAILY;COUNT=4
RDATE;TZID=Europe/Berlin:20250930T140000,20251001T140000,20251002T140000,2
 0251010T140000,20251017T140000
ATTENDEE;CN="Ines Trabelsi";ROLE=REQ-PARTICIPANT:Ines Trabelsi
CREATED:20250905T075411Z
DESCRIPTION:https://www.uni-marburg.de/de/international/news-international
 /termine/2025/tutorial-for-international-students-of-the-master-of-north-a
 merican-studies\nTutorial for international degree-seeking students.
LAST-MODIFIED:20250905T094513Z
LOCATION:Online (BigBlueButton)
URL:https://www.uni-marburg.de/de/international/news-international/termine
 /2025/tutorial-for-international-students-of-the-master-of-north-american-
 studies
END:VEVENT
BEGIN:VTIMEZONE
TZID:Europe/Berlin
X-LIC-LOCATION:Europe/Berlin
BEGIN:DAYLIGHT
DTSTART:20250330T030000
TZNAME:CEST
TZOFFSETFROM:+0100
TZOFFSETTO:+0200
END:DAYLIGHT
END:VTIMEZONE
END:VCALENDAR
