BEGIN:VCALENDAR
VERSION:2.0
PRODID:-//Plone.org//NONSGML plone.app.event//EN
X-WR-TIMEZONE:Europe/Berlin
BEGIN:VEVENT
SUMMARY:Tutorium: Einführung in das deutsche Rechtssystem und juristische
  Arbeitstechniken
DTSTART;TZID=Europe/Berlin:20250929T100000
DTEND;TZID=Europe/Berlin:20250929T143000
DTSTAMP:20260425T225858Z
UID:0c3f5a85bda942c49d5df62339537669@www.uni-marburg.de
RRULE:FREQ=DAILY;COUNT=4
RDATE;TZID=Europe/Berlin:20250930T100000,20251001T100000,20251002T100000
ATTENDEE;CN="Ilayda Akar";ROLE=REQ-PARTICIPANT:Ilayda Akar
CREATED:20250905T070537Z
DESCRIPTION:https://www.uni-marburg.de/de/international/news-international
 /termine/2025/tutorium-einfuehrung-in-das-deutsche-rechtssystem-und-jurist
 ische-arbeitstechniken\nTutorium für internationale Studierende der Recht
 swissenschaft (nicht für Exchange-Studierende)
LAST-MODIFIED:20250905T094512Z
LOCATION:Online über BigBlueButton
URL:https://www.uni-marburg.de/de/international/news-international/termine
 /2025/tutorium-einfuehrung-in-das-deutsche-rechtssystem-und-juristische-ar
 beitstechniken
END:VEVENT
BEGIN:VTIMEZONE
TZID:Europe/Berlin
X-LIC-LOCATION:Europe/Berlin
BEGIN:DAYLIGHT
DTSTART:20250330T030000
TZNAME:CEST
TZOFFSETFROM:+0100
TZOFFSETTO:+0200
END:DAYLIGHT
END:VTIMEZONE
END:VCALENDAR
