BEGIN:VCALENDAR
VERSION:2.0
PRODID:-//Plone.org//NONSGML plone.app.event//EN
X-WR-TIMEZONE:Europe/Berlin
BEGIN:VEVENT
SUMMARY:Tutorium für internationale Studierende der Fachbereiche Germanis
 tik und Kunstwissenschaft und Fremdsprachliche Philologien
DTSTART;VALUE=DATE:20250510
DTEND;VALUE=DATE:20250511
DTSTAMP:20260425T003356Z
UID:fb4b934c4b3b4ea187ab0d6a6997a3e5@www.uni-marburg.de
RRULE:FREQ=WEEKLY;UNTIL=20250524T000000
RDATE:20250516,20250517,20250524
CREATED:20250425T072055Z
DESCRIPTION:https://www.uni-marburg.de/de/international/news-international
 /termine/2025/tutorium-germanistik-fremdsprachliche-philologien\nFür inte
 rnationale Bachelor-Studierende (Degree-Seeker\, keine Austausch-Studieren
 den) der Fachbereiche 09 und 10
LAST-MODIFIED:20250905T094000Z
LOCATION:Wird nach Anmeldung bekanntgegeben
URL:https://www.uni-marburg.de/de/international/news-international/termine
 /2025/tutorium-germanistik-fremdsprachliche-philologien
END:VEVENT
END:VCALENDAR
