BEGIN:VCALENDAR
VERSION:2.0
PRODID:-//Plone.org//NONSGML plone.app.event//EN
X-WR-TIMEZONE:Europe/Berlin
BEGIN:VEVENT
SUMMARY:Online-Workshop: Gut vorbereitet zur Messe "Karriere weltweit"
DTSTART;TZID=Europe/Berlin:20251119T140000
DTEND;TZID=Europe/Berlin:20251119T153000
DTSTAMP:20260423T065647Z
UID:b39299a75123468a84e4ffd33910ec1f@www.uni-marburg.de
CREATED:20250819T122820Z
DESCRIPTION:https://www.uni-marburg.de/de/international/news-international
 /termine/2025/vorbereitung-karriere-weltweit\nWorkshop für internationale
  Studierende (Degree Seeker\, keine Austausch-Studierende)
LAST-MODIFIED:20250905T095023Z
LOCATION:Online (Link wird nach Anmeldung zur Verfügung gestellt)
URL:https://www.uni-marburg.de/de/international/news-international/termine
 /2025/vorbereitung-karriere-weltweit
END:VEVENT
BEGIN:VTIMEZONE
TZID:Europe/Berlin
X-LIC-LOCATION:Europe/Berlin
BEGIN:STANDARD
DTSTART:20251026T020000
TZNAME:CET
TZOFFSETFROM:+0200
TZOFFSETTO:+0100
END:STANDARD
END:VTIMEZONE
END:VCALENDAR
