BEGIN:VCALENDAR
VERSION:2.0
PRODID:-//Plone.org//NONSGML plone.app.event//EN
X-WR-TIMEZONE:Europe/Berlin
BEGIN:VEVENT
SUMMARY:Alumni-Talk: Mit dem Uni-Abschluss in die Präzisionsmedizin
DTSTART;TZID=Europe/Berlin:20260511T170000
DTEND;TZID=Europe/Berlin:20260511T183000
DTSTAMP:20260421T133324Z
UID:f355f2d71f4c4518982dd46e2074d072@www.uni-marburg.de
ATTENDEE;CN="Nuwar Harb";ROLE=REQ-PARTICIPANT:Nuwar Harb
CATEGORIES:()
CREATED:20260326T111927Z
DESCRIPTION:https://www.uni-marburg.de/de/international/news-international
 /termine/2026/alumni-talk-praezisionsmedizin\nIn der Reihe "Ways to Work -
  Alumni-Talks" berichten ehemalige internationale Absolvent*innen der Phil
 ipps-Universität von ihrem Weg aus dem Ausland über\nihr Studium bzw. ih
 re Promotion bis in das Berufsleben in Deutschland. Erfahren Sie\, wie bei
  anderen dieser Weg verlaufen ist und nehmen Sie Tipps und\nTricks für Ih
 ren eigenen weiteren Werdegang mit!
LAST-MODIFIED:20260326T141059Z
LOCATION:Online über BigBlueButton (BBB)
URL:https://www.uni-marburg.de/de/international/news-international/termine
 /2026/alumni-talk-praezisionsmedizin
END:VEVENT
BEGIN:VTIMEZONE
TZID:Europe/Berlin
X-LIC-LOCATION:Europe/Berlin
BEGIN:DAYLIGHT
DTSTART:20260329T030000
TZNAME:CEST
TZOFFSETFROM:+0100
TZOFFSETTO:+0200
END:DAYLIGHT
END:VTIMEZONE
END:VCALENDAR
