BEGIN:VCALENDAR
VERSION:2.0
PRODID:-//Plone.org//NONSGML plone.app.event//EN
X-WR-TIMEZONE:Europe/Berlin
BEGIN:VEVENT
SUMMARY:Infosession: Bilaterale Austauschprogramme in Übersee & Studieren
  in den USA
DTSTART;TZID=Europe/Berlin:20260512T180000
DTEND;TZID=Europe/Berlin:20260512T190000
DTSTAMP:20260425T184748Z
UID:c8c9b7cab57d427b82b821b47b671f09@www.uni-marburg.de
ATTENDEE;CN="Jennifer Rödel";ROLE=REQ-PARTICIPANT:Jennifer Rödel
CATEGORIES:()
CREATED:20260318T112000Z
DESCRIPTION:https://www.uni-marburg.de/de/international/news-international
 /termine/2026/copy_of_infosessions-bilaterale-austauschprogramme-in-uebers
 ee-sommersemester-2027\n
LAST-MODIFIED:20260318T120719Z
LOCATION:https://webconf.hrz.uni-marburg.de/n/rooms/efm-i1z-hqm-fpk/join
URL:https://www.uni-marburg.de/de/international/news-international/termine
 /2026/copy_of_infosessions-bilaterale-austauschprogramme-in-uebersee-somme
 rsemester-2027
END:VEVENT
BEGIN:VTIMEZONE
TZID:Europe/Berlin
X-LIC-LOCATION:Europe/Berlin
BEGIN:DAYLIGHT
DTSTART:20260329T030000
TZNAME:CEST
TZOFFSETFROM:+0100
TZOFFSETTO:+0200
END:DAYLIGHT
END:VTIMEZONE
END:VCALENDAR
