BEGIN:VCALENDAR
VERSION:2.0
PRODID:-//Plone.org//NONSGML plone.app.event//EN
X-WR-TIMEZONE:Europe/Berlin
BEGIN:VEVENT
SUMMARY:Info-Workshop: Erfolgreich durchs Studium und in den Beruf für in
 ternationale Studierende mit Behinderung oder chronischer Erkrankung
DTSTART;TZID=Europe/Berlin:20260505T160000
DTEND;TZID=Europe/Berlin:20260505T180000
DTSTAMP:20260422T075105Z
UID:7640c1b54ade439384a2415f722acac0@www.uni-marburg.de
CATEGORIES:()
CREATED:20260326T143708Z
DESCRIPTION:https://www.uni-marburg.de/de/international/news-international
 /termine/2026/erfolgreich-durchs-studium-und-in-beruf-mit-behinderung-oder
 -chronischer-erkrankung\nInfos und Tipps für internationale Studierende\,
  die ihr Studium in Marburg abschließen und danach in Deutschland ins Arb
 eitsleben starten möchten.
LAST-MODIFIED:20260327T073652Z
LOCATION:Online über die Plattform Zoom
URL:https://www.uni-marburg.de/de/international/news-international/termine
 /2026/erfolgreich-durchs-studium-und-in-beruf-mit-behinderung-oder-chronis
 cher-erkrankung
END:VEVENT
BEGIN:VTIMEZONE
TZID:Europe/Berlin
X-LIC-LOCATION:Europe/Berlin
BEGIN:DAYLIGHT
DTSTART:20260329T030000
TZNAME:CEST
TZOFFSETFROM:+0100
TZOFFSETTO:+0200
END:DAYLIGHT
END:VTIMEZONE
END:VCALENDAR
