BEGIN:VCALENDAR
VERSION:2.0
PRODID:-//Plone.org//NONSGML plone.app.event//EN
X-WR-TIMEZONE:Europe/Berlin
BEGIN:VEVENT
SUMMARY:Incomings-Peer-Sprechstunde
DTSTART;TZID=Europe/Berlin:20260128T110000
DTEND;TZID=Europe/Berlin:20260128T130000
DTSTAMP:20260421T121933Z
UID:01eccfbf46a94adea9560522a328b418@www.uni-marburg.de
RRULE:FREQ=WEEKLY;COUNT=14;BYDAY=WE
CATEGORIES:()
CREATED:20260122T123916Z
DESCRIPTION:https://www.uni-marburg.de/de/international/news-international
 /termine/2026/incomings-peer-sprechstunde\n
LAST-MODIFIED:20260223T171452Z
LOCATION:Campus Firmanei F ǀ 05\,  Bunsenstraße 3\,  Zimmer/room (410-41
 1)
URL:https://www.uni-marburg.de/de/international/news-international/termine
 /2026/incomings-peer-sprechstunde
END:VEVENT
BEGIN:VTIMEZONE
TZID:Europe/Berlin
X-LIC-LOCATION:Europe/Berlin
BEGIN:DAYLIGHT
DTSTART:20260329T030000
TZNAME:CEST
TZOFFSETFROM:+0100
TZOFFSETTO:+0200
END:DAYLIGHT
END:VTIMEZONE
END:VCALENDAR
