BEGIN:VCALENDAR
VERSION:2.0
PRODID:-//Plone.org//NONSGML plone.app.event//EN
X-WR-TIMEZONE:Europe/Berlin
BEGIN:VEVENT
SUMMARY:Student Info Session Series #7 The European Track
DTSTART;TZID=Europe/Berlin:20260115T170000
DTSTAMP:20260425T060149Z
UID:e33de5a8e03143bc803de2f02058e864@www.uni-marburg.de
CREATED:20251014T095004Z
DESCRIPTION:https://www.uni-marburg.de/de/international/news-international
 /termine/2026/student-info-session-series-7-the-european-track\n
LAST-MODIFIED:20251014T095014Z
LOCATION:Online https://webconf.hrz.uni-marburg.de/n/rooms/yyg-f9y-6nl-u4a
 /join
URL:https://www.uni-marburg.de/de/international/news-international/termine
 /2026/student-info-session-series-7-the-european-track
END:VEVENT
BEGIN:VTIMEZONE
TZID:Europe/Berlin
X-LIC-LOCATION:Europe/Berlin
BEGIN:STANDARD
DTSTART:20251026T020000
TZNAME:CET
TZOFFSETFROM:+0200
TZOFFSETTO:+0100
END:STANDARD
END:VTIMEZONE
END:VCALENDAR
