BEGIN:VCALENDAR
VERSION:2.0
PRODID:-//Plone.org//NONSGML plone.app.event//EN
X-WR-TIMEZONE:Europe/Berlin
BEGIN:VEVENT
SUMMARY:Student Info Session Series #9 An Outlook: These events are coming
  up for you as an EUPeace student!
DTSTART;TZID=Europe/Berlin:20260211T170000
DTSTAMP:20260425T233154Z
UID:fe457751a70c4b399ff4ccece9183dc8@www.uni-marburg.de
CREATED:20251014T095522Z
DESCRIPTION:https://www.uni-marburg.de/de/international/news-international
 /termine/2026/student-info-session-series-9-an-outlook-these-events-are-co
 ming-up-for-you-as-an-eupeace-student\n
LAST-MODIFIED:20251014T095547Z
LOCATION:Termin herunterladen (.ics)  Online https://webconf.hrz.uni-marbu
 rg.de/n/rooms/yyg-f9y-6nl-u4a/join
URL:https://www.uni-marburg.de/de/international/news-international/termine
 /2026/student-info-session-series-9-an-outlook-these-events-are-coming-up-
 for-you-as-an-eupeace-student
END:VEVENT
BEGIN:VTIMEZONE
TZID:Europe/Berlin
X-LIC-LOCATION:Europe/Berlin
BEGIN:STANDARD
DTSTART:20251026T020000
TZNAME:CET
TZOFFSETFROM:+0200
TZOFFSETTO:+0100
END:STANDARD
END:VTIMEZONE
END:VCALENDAR
