BEGIN:VCALENDAR
VERSION:2.0
PRODID:-//Plone.org//NONSGML plone.app.event//EN
X-WR-TIMEZONE:Europe/Berlin
BEGIN:VEVENT
SUMMARY:Fachmesse W3+Fair: Messebesuch inkl. Führung für internationale 
 Studierende
DTSTART;TZID=Europe/Berlin:20260318T150000
DTEND;TZID=Europe/Berlin:20260318T180000
DTSTAMP:20260424T030258Z
UID:c8070555fac441c0b9eff61386d72b25@www.uni-marburg.de
CATEGORIES:()
CREATED:20250213T153955Z
DESCRIPTION:https://www.uni-marburg.de/de/international/news-international
 /termine/w3-fair-messebesuch2026\n
LAST-MODIFIED:20260224T140913Z
LOCATION:Buderus Arena Wetzlar\, Wolfgang-Kühle-Straße 1\, Wetzlar
URL:https://www.uni-marburg.de/de/international/news-international/termine
 /w3-fair-messebesuch2026
END:VEVENT
BEGIN:VTIMEZONE
TZID:Europe/Berlin
X-LIC-LOCATION:Europe/Berlin
BEGIN:STANDARD
DTSTART:20251026T020000
TZNAME:CET
TZOFFSETFROM:+0200
TZOFFSETTO:+0100
END:STANDARD
END:VTIMEZONE
END:VCALENDAR
