BEGIN:VCALENDAR
VERSION:2.0
PRODID:-//Plone.org//NONSGML plone.app.event//EN
X-WR-TIMEZONE:Europe/Berlin
BEGIN:VEVENT
SUMMARY:Fachmesse W3+ Fair: Wie bereite ich mich vor? Online-Vortrag
DTSTART;TZID=Europe/Berlin:20260305T150000
DTEND;TZID=Europe/Berlin:20260305T160000
DTSTAMP:20260420T230130Z
UID:a72c4eea72034eeca49ef040b8ba9a1b@www.uni-marburg.de
CATEGORIES:()
CREATED:20250213T153458Z
DESCRIPTION:https://www.uni-marburg.de/de/international/news-international
 /termine/w3-fair-vorbereitung\n
LAST-MODIFIED:20260224T135953Z
LOCATION:Online (Link wird nach Anmeldung zur Verfügung gestellt)
URL:https://www.uni-marburg.de/de/international/news-international/termine
 /w3-fair-vorbereitung
END:VEVENT
BEGIN:VTIMEZONE
TZID:Europe/Berlin
X-LIC-LOCATION:Europe/Berlin
BEGIN:STANDARD
DTSTART:20251026T020000
TZNAME:CET
TZOFFSETFROM:+0200
TZOFFSETTO:+0100
END:STANDARD
END:VTIMEZONE
END:VCALENDAR
