BEGIN:VCALENDAR
VERSION:2.0
PRODID:-//Plone.org//NONSGML plone.app.event//EN
X-WR-TIMEZONE:Europe/Berlin
BEGIN:VEVENT
SUMMARY:Spieleabend an den Lahnwiesen
DTSTART;TZID=Europe/Berlin:20260625T180000
DTSTAMP:20260425T055313Z
UID:2d7ba077dd7c41aa9c3eee7ce50026c0@www.uni-marburg.de
CATEGORIES:()
CREATED:20260409T141930Z
DESCRIPTION:https://www.uni-marburg.de/de/international/profil/eupeace/akt
 uelles/eupeace-termine/spieleabend_an_den_lahnwiesen\nGemeinsam spielen\, 
 vernetzen und den Sommer genießen: Offener Spieleabend mit Outdoor-Games 
 an den Lahnwiesen für Studierende.
LAST-MODIFIED:20260420T095354Z
LOCATION:Lahnwiesen (gegenüber von der Mensa)
URL:https://www.uni-marburg.de/de/international/profil/eupeace/aktuelles/e
 upeace-termine/spieleabend_an_den_lahnwiesen
END:VEVENT
BEGIN:VTIMEZONE
TZID:Europe/Berlin
X-LIC-LOCATION:Europe/Berlin
BEGIN:DAYLIGHT
DTSTART:20260329T030000
TZNAME:CEST
TZOFFSETFROM:+0100
TZOFFSETTO:+0200
END:DAYLIGHT
END:VTIMEZONE
END:VCALENDAR
