BEGIN:VCALENDAR
VERSION:2.0
PRODID:-//Plone.org//NONSGML plone.app.event//EN
X-WR-TIMEZONE:Europe/Berlin
BEGIN:VEVENT
SUMMARY:Academic Mentoring Network
DTSTART;TZID=Europe/Berlin:20260511T180000
DTEND;TZID=Europe/Berlin:20260511T193000
DTSTAMP:20260424T115008Z
UID:c13034af3f724bbe83347b118645263a@www.uni-marburg.de
CATEGORIES:()
CREATED:20260409T141930Z
DESCRIPTION:https://www.uni-marburg.de/de/international/profil/eupeace/akt
 uelles/eupeace-umr-in-den-europawochen-2026/academic_mentoring_network\nDa
 s EUPeace Academic Mentoring Network wird im Rahmen eines interaktiven Onl
 ine-Kick-off-Events offiziell gestartet. Die Veranstaltung bringt Promovie
 rende\, Mitglieder des Research Hubs sowie weitere Akteurinnen und Akteure
  der EUPeace-Allianz zusammen. Im Mittelpunkt stehen die Vorstellung des M
 entoring-Programms\, die Themenvielfalt sowie Austausch- und Vernetzungsm
 öglichkeiten auf europäischer Ebene.
LAST-MODIFIED:20260416T104041Z
LOCATION:Online
URL:https://www.uni-marburg.de/de/international/profil/eupeace/aktuelles/e
 upeace-umr-in-den-europawochen-2026/academic_mentoring_network
END:VEVENT
BEGIN:VTIMEZONE
TZID:Europe/Berlin
X-LIC-LOCATION:Europe/Berlin
BEGIN:DAYLIGHT
DTSTART:20260329T030000
TZNAME:CEST
TZOFFSETFROM:+0100
TZOFFSETTO:+0200
END:DAYLIGHT
END:VTIMEZONE
END:VCALENDAR
