BEGIN:VCALENDAR
VERSION:2.0
PRODID:-//Plone.org//NONSGML plone.app.event//EN
X-WR-TIMEZONE:Europe/Berlin
BEGIN:VEVENT
SUMMARY:Deep Forest Spieleabend
DTSTART;TZID=Europe/Berlin:20260430T170000
DTSTAMP:20260424T115021Z
UID:5c703904150b445a89bfed6625b925a5@www.uni-marburg.de
CATEGORIES:()
CREATED:20260409T141930Z
DESCRIPTION:https://www.uni-marburg.de/de/international/profil/eupeace/akt
 uelles/eupeace-umr-in-den-europawochen-2026/deep_forest_spieleabend\nIm Ra
 hmen der Europawochen Hessen 2026 lädt EUPeace zu einer interaktiven Spie
 lwerkstatt ein\, in der das kooperative Erzählspiel The Deep Forest gemei
 nsam erprobt wird. Die Veranstaltung bietet einen spielerischen Zugang zu 
 Fragen von Dekolonisierung\, Gemeinschaftsbildung und kollektiver Entschei
 dungsfindung und richtet sich an Studierende\, Lehrende sowie alle Interes
 sierten.
LAST-MODIFIED:20260416T104041Z
LOCATION:Creative Space\, Bahnhofsstraße 7\, 1. OG
URL:https://www.uni-marburg.de/de/international/profil/eupeace/aktuelles/e
 upeace-umr-in-den-europawochen-2026/deep_forest_spieleabend
END:VEVENT
BEGIN:VTIMEZONE
TZID:Europe/Berlin
X-LIC-LOCATION:Europe/Berlin
BEGIN:DAYLIGHT
DTSTART:20260329T030000
TZNAME:CEST
TZOFFSETFROM:+0100
TZOFFSETTO:+0200
END:DAYLIGHT
END:VTIMEZONE
END:VCALENDAR
