BEGIN:VCALENDAR
VERSION:2.0
PRODID:-//Plone.org//NONSGML plone.app.event//EN
X-WR-TIMEZONE:Europe/Berlin
BEGIN:VEVENT
SUMMARY:EUPeace@UMR meets EDIB
DTSTART;TZID=Europe/Berlin:20260428T170000
DTSTAMP:20260424T043212Z
UID:ba164cb24afa4be1a83c0031cfe2b8b6@www.uni-marburg.de
CATEGORIES:()
CREATED:20260409T141930Z
DESCRIPTION:https://www.uni-marburg.de/de/international/profil/eupeace/akt
 uelles/eupeace-umr-in-den-europawochen-2026/edib\nIm Rahmen des Europawoch
 en-Programms und des regelmäßigen studentischen EUPeace-Treffens lädt d
 ie Philipps-Universität Marburg zum Auftakt des neuen Semesters ein. Die 
 Veranstaltung bietet Studierenden die Möglichkeit\, direkt mit einer inte
 rnationalen Expertin ins Gespräch zu kommen und Einblicke in Gleichstellu
 ng\, Diversität und die Arbeit innerhalb der europäischen Hochschulallia
 nz EUPeace zu erhalten. Anschließend finden die studentischen EUPeace-Tre
 ffen wieder regelmäßig alle zwei Wochen dienstags statt.
LAST-MODIFIED:20260416T102053Z
LOCATION:International Office der Philipps-Universität Marburg\, Deutschh
 ausstr. 11+13\, Seminarraum 01.0020
URL:https://www.uni-marburg.de/de/international/profil/eupeace/aktuelles/e
 upeace-umr-in-den-europawochen-2026/edib
END:VEVENT
BEGIN:VTIMEZONE
TZID:Europe/Berlin
X-LIC-LOCATION:Europe/Berlin
BEGIN:DAYLIGHT
DTSTART:20260329T030000
TZNAME:CEST
TZOFFSETFROM:+0100
TZOFFSETTO:+0200
END:DAYLIGHT
END:VTIMEZONE
END:VCALENDAR
