BEGIN:VCALENDAR
VERSION:2.0
PRODID:-//Plone.org//NONSGML plone.app.event//EN
X-WR-TIMEZONE:Europe/Berlin
BEGIN:VEVENT
SUMMARY:EUPeace@UMR Student Meet-Ups (alle zwei Wochen dienstags)
DTSTART;TZID=Europe/Berlin:20260428T170000
DTSTAMP:20260424T155129Z
UID:3a2c56a0539a4de2957a2eaecc87cc75@www.uni-marburg.de
RRULE:FREQ=WEEKLY;UNTIL=20260717T000000;INTERVAL=2;BYDAY=TU
CATEGORIES:()
CREATED:20260409T141930Z
DESCRIPTION:https://www.uni-marburg.de/de/international/profil/eupeace/akt
 uelles/eupeace-umr-in-den-europawochen-2026/eupeace-umr_student_meet_up\nW
 ie bereits angekündigt finden die studentischen EUPeace Meet-ups an der P
 hilipps-Universität Marburg während des Semesters regelmäßig alle zwei
  Wochen dienstags statt. Die Treffen bieten Studierenden einen offenen Rau
 m für Austausch\, Vernetzung und Informationen rund um die europäische H
 ochschulallianz EUPeace sowie aktuelle Projekte und Beteiligungsmöglichke
 iten.
LAST-MODIFIED:20260416T104041Z
LOCATION:International Office der Philipps-Universität Marburg\, Deutschh
 ausstr. 11+13\, Seminarraum 01.0020
URL:https://www.uni-marburg.de/de/international/profil/eupeace/aktuelles/e
 upeace-umr-in-den-europawochen-2026/eupeace-umr_student_meet_up
END:VEVENT
BEGIN:VTIMEZONE
TZID:Europe/Berlin
X-LIC-LOCATION:Europe/Berlin
BEGIN:DAYLIGHT
DTSTART:20260329T030000
TZNAME:CEST
TZOFFSETFROM:+0100
TZOFFSETTO:+0200
END:DAYLIGHT
END:VTIMEZONE
END:VCALENDAR
