BEGIN:VCALENDAR
VERSION:2.0
PRODID:-//Plone.org//NONSGML plone.app.event//EN
X-WR-TIMEZONE:Europe/Berlin
BEGIN:VEVENT
SUMMARY:EUPeace Career Days
DTSTART;VALUE=DATE:20260511
DTEND;VALUE=DATE:20260512
DTSTAMP:20260424T234741Z
UID:761ec298b80149aa94cc7cd2cd0af2ed@www.uni-marburg.de
CATEGORIES:()
CREATED:20260409T141930Z
DESCRIPTION:https://www.uni-marburg.de/de/international/profil/eupeace/akt
 uelles/eupeace-umr-in-den-europawochen-2026/eupeace_career_days\nDer EUPea
 ce Career Day ist eine von Studierenden der türkischen Partneruniversitä
 t organisierte hybride Veranstaltung innerhalb der Allianz mit Fokus auf e
 uropäische Karrierewege und internationale Berufsperspektiven. In verschi
 edenen Austauschformaten erhalten Studierende Einblicke in mögliche beruf
 liche Wege im europäischen Kontext und können sich direkt mit Alumni\, S
 tudierenden und externen Partnern vernetzen.
LAST-MODIFIED:20260416T104041Z
LOCATION:Online
URL:https://www.uni-marburg.de/de/international/profil/eupeace/aktuelles/e
 upeace-umr-in-den-europawochen-2026/eupeace_career_days
END:VEVENT
END:VCALENDAR
