BEGIN:VCALENDAR
VERSION:2.0
PRODID:-//Plone.org//NONSGML plone.app.event//EN
X-WR-TIMEZONE:Europe/Berlin
BEGIN:VEVENT
SUMMARY:Europa-Rallye
DTSTART;VALUE=DATE:20260501
DTEND;VALUE=DATE:20260510
DTSTAMP:20260425T043729Z
UID:7eaee5ee6300416fb2365bd68de2c854@www.uni-marburg.de
CATEGORIES:()
CREATED:20260409T141930Z
DESCRIPTION:https://www.uni-marburg.de/de/international/profil/eupeace/akt
 uelles/eupeace-umr-in-den-europawochen-2026/europa_rallye\nVom 1. bis 9. M
 ai lädt EUPeace im Rahmen der Europawochen Hessen 2026 zu einer interakti
 ven Europa-Rallye im Geocaching-Format ein. Studierende entdecken dabei Or
 te in Marburg mit Bezügen zu den Partnerländern der EUPeace-Allianz. Zie
 l ist es\, europäische Vielfalt im Alltag sichtbar zu machen und über Au
 stauschmöglichkeiten sowie die Zusammenarbeit innerhalb der Allianz zu in
 formieren.
LAST-MODIFIED:20260416T104041Z
LOCATION:Stadgebiet Marburg
URL:https://www.uni-marburg.de/de/international/profil/eupeace/aktuelles/e
 upeace-umr-in-den-europawochen-2026/europa_rallye
END:VEVENT
END:VCALENDAR
