BEGIN:VCALENDAR
VERSION:2.0
PRODID:-//Plone.org//NONSGML plone.app.event//EN
X-WR-TIMEZONE:Europe/Berlin
BEGIN:VEVENT
SUMMARY:European Doctoral Day
DTSTART;TZID=Europe/Berlin:20260512T160000
DTSTAMP:20260425T133309Z
UID:36cc852094f74263b8b2ea2894b30bbe@www.uni-marburg.de
CATEGORIES:()
CREATED:20260409T141930Z
DESCRIPTION:https://www.uni-marburg.de/de/international/profil/eupeace/akt
 uelles/eupeace-umr-in-den-europawochen-2026/european_doctoral_day\nDer Wel
 come Walk der MArburg University Research Academy richtet sich an neue und
  interessierte Promovierende sowie Postdocs an der Philipps-Universität M
 arburg. Neben dem Kennenlernen zentraler Einrichtungen und Unterstützungs
 angebote steht insbesondere der Austausch zu europäischen Perspektiven im
  Doktorat im Kontext der EUPeace-Allianz im Mittelpunkt.
LAST-MODIFIED:20260416T104041Z
LOCATION:Haupteingang Mensa (Lahnberge)
URL:https://www.uni-marburg.de/de/international/profil/eupeace/aktuelles/e
 upeace-umr-in-den-europawochen-2026/european_doctoral_day
END:VEVENT
BEGIN:VTIMEZONE
TZID:Europe/Berlin
X-LIC-LOCATION:Europe/Berlin
BEGIN:DAYLIGHT
DTSTART:20260329T030000
TZNAME:CEST
TZOFFSETFROM:+0100
TZOFFSETTO:+0200
END:DAYLIGHT
END:VTIMEZONE
END:VCALENDAR
