BEGIN:VCALENDAR
VERSION:2.0
PRODID:-//Plone.org//NONSGML plone.app.event//EN
X-WR-TIMEZONE:Europe/Berlin
BEGIN:VEVENT
SUMMARY:Game Night im Gewölbekeller
DTSTART;TZID=Europe/Berlin:20260520T180000
DTEND;TZID=Europe/Berlin:20260520T200000
DTSTAMP:20260424T232210Z
UID:0e4c1f8191744378bf2f718a4aa21869@www.uni-marburg.de
CATEGORIES:()
CREATED:20260409T141930Z
DESCRIPTION:https://www.uni-marburg.de/de/international/profil/eupeace/akt
 uelles/eupeace-umr-in-den-europawochen-2026/game_night_im_gewoelbekeller\n
 Im Gewölbekeller der Philipps-Universität Marburg findet ein interkultur
 eller Spieleabend statt\, der gemeinsam mit Studierenden der Partneruniver
 sität aus Limoges gestaltet wird. Während sich die französischen Studie
 renden zeitgleich in Marburg aufhalten\, steht der Abend im Zeichen von Be
 gegnung\, Austausch und gemeinsamer Freizeitgestaltung in entspannter Atmo
 sphäre.
LAST-MODIFIED:20260416T104041Z
LOCATION:Gewölbekeller\, Deutschhausstr. 10
URL:https://www.uni-marburg.de/de/international/profil/eupeace/aktuelles/e
 upeace-umr-in-den-europawochen-2026/game_night_im_gewoelbekeller
END:VEVENT
BEGIN:VTIMEZONE
TZID:Europe/Berlin
X-LIC-LOCATION:Europe/Berlin
BEGIN:DAYLIGHT
DTSTART:20260329T030000
TZNAME:CEST
TZOFFSETFROM:+0100
TZOFFSETTO:+0200
END:DAYLIGHT
END:VTIMEZONE
END:VCALENDAR
