BEGIN:VCALENDAR
VERSION:2.0
PRODID:-//Plone.org//NONSGML plone.app.event//EN
X-WR-TIMEZONE:Europe/Berlin
BEGIN:VEVENT
SUMMARY:Spieleabend an den Lahnwiesen
DTSTART;TZID=Europe/Berlin:20260528T180000
DTSTAMP:20260425T142737Z
UID:24f353383c504ea8a7f3d0ef6375dbda@www.uni-marburg.de
CATEGORIES:()
CREATED:20260409T141930Z
DESCRIPTION:https://www.uni-marburg.de/de/international/profil/eupeace/akt
 uelles/eupeace-umr-in-den-europawochen-2026/spieleabend_an_den_lahnwiesen\
 nZum Abschluss der Europawochen Hessen 2026 lädt EUPeace zu einem offenen
  Spieleabend an den Lahnwiesen ein. Im Mittelpunkt stehen gemeinschaftlich
 e Outdoor-Spiele\, informelle Begegnung und der Ausklang der Veranstaltung
 sreihe in entspannter Atmosphäre.
LAST-MODIFIED:20260416T104041Z
LOCATION:Lahnwiesen (gegenüber von der Mensa)
URL:https://www.uni-marburg.de/de/international/profil/eupeace/aktuelles/e
 upeace-umr-in-den-europawochen-2026/spieleabend_an_den_lahnwiesen
END:VEVENT
BEGIN:VTIMEZONE
TZID:Europe/Berlin
X-LIC-LOCATION:Europe/Berlin
BEGIN:DAYLIGHT
DTSTART:20260329T030000
TZNAME:CEST
TZOFFSETFROM:+0100
TZOFFSETTO:+0200
END:DAYLIGHT
END:VTIMEZONE
END:VCALENDAR
