BEGIN:VCALENDAR
VERSION:2.0
PRODID:-//Plone.org//NONSGML plone.app.event//EN
X-WR-TIMEZONE:Europe/Berlin
BEGIN:VEVENT
SUMMARY:Zwanzig Jahre Zentrum für Konfliktforschung (Festakt)
DTSTART;TZID=Europe/Berlin:20220715T183000
DTSTAMP:20260426T062812Z
UID:24d264727ce3421c8496cd809e956faa@www.uni-marburg.de
CREATED:20220613T093407Z
DESCRIPTION:https://www.uni-marburg.de/de/konfliktforschung/aktuelles/term
 ine/2022/zwanzig-jahre-zentrum-fuer-konfliktforschung-festakt\n
LAST-MODIFIED:20240311T150354Z
LOCATION:Vortragsraum der Universitätsbibliothek\, Deutschhausstraße 9
URL:https://www.uni-marburg.de/de/konfliktforschung/aktuelles/termine/2022
 /zwanzig-jahre-zentrum-fuer-konfliktforschung-festakt
END:VEVENT
BEGIN:VTIMEZONE
TZID:Europe/Berlin
X-LIC-LOCATION:Europe/Berlin
BEGIN:DAYLIGHT
DTSTART:20220327T030000
TZNAME:CEST
TZOFFSETFROM:+0100
TZOFFSETTO:+0200
END:DAYLIGHT
END:VTIMEZONE
END:VCALENDAR
