BEGIN:VCALENDAR
VERSION:2.0
PRODID:-//Plone.org//NONSGML plone.app.event//EN
X-WR-TIMEZONE:Europe/Berlin
BEGIN:VEVENT
SUMMARY:40 Jahre Wissenschaft & Frieden: Jubiläumssymposium und Festakt
DTSTART;VALUE=DATE:20231006
DTEND;VALUE=DATE:20231008
DTSTAMP:20260425T120258Z
UID:b5bd6ae5eecb4460a4e6b9fc5a347bc5@www.uni-marburg.de
CREATED:20230724T083709Z
DESCRIPTION:https://www.uni-marburg.de/de/konfliktforschung/aktuelles/term
 ine/2023/40-jahre-wissenschaft-frieden-jubilaeumssymposium-und-festakt\n
LAST-MODIFIED:20240311T145947Z
LOCATION:German Institute of Development and Sustainability (IDOS)\, Tulpe
 nfeld 6\, D-53113 Bonn
URL:https://www.uni-marburg.de/de/konfliktforschung/aktuelles/termine/2023
 /40-jahre-wissenschaft-frieden-jubilaeumssymposium-und-festakt
END:VEVENT
END:VCALENDAR
