BEGIN:VCALENDAR
VERSION:2.0
PRODID:-//Plone.org//NONSGML plone.app.event//EN
X-WR-TIMEZONE:Europe/Berlin
BEGIN:VEVENT
SUMMARY:Buchvorstellung: "Protesting Jordan: Geographies of Power and Diss
 ent"
DTSTART;TZID=Europe/Berlin:20230605T180000
DTEND;TZID=Europe/Berlin:20230605T200000
DTSTAMP:20260425T011747Z
UID:fd645a2429404c56829a5b7046687bdf@www.uni-marburg.de
ATTENDEE;CN="Prof. Jillian Schwedler";ROLE=REQ-PARTICIPANT:Prof. Jillian S
 chwedler
CREATED:20230525T105352Z
DESCRIPTION:https://www.uni-marburg.de/de/konfliktforschung/aktuelles/term
 ine/2023/buchvorstellung-protesting-jordan-geographies-of-power-and-dissen
 t\nDr. Jillian Schwedler will present her book "Protesting Jordan: Geograp
 hies of Power and Dissent".
LAST-MODIFIED:20240311T145941Z
LOCATION:Marburg\, CNMS\, 00A26
URL:https://www.uni-marburg.de/de/konfliktforschung/aktuelles/termine/2023
 /buchvorstellung-protesting-jordan-geographies-of-power-and-dissent
END:VEVENT
BEGIN:VTIMEZONE
TZID:Europe/Berlin
X-LIC-LOCATION:Europe/Berlin
BEGIN:DAYLIGHT
DTSTART:20230326T030000
TZNAME:CEST
TZOFFSETFROM:+0100
TZOFFSETTO:+0200
END:DAYLIGHT
END:VTIMEZONE
END:VCALENDAR
