BEGIN:VCALENDAR
VERSION:2.0
PRODID:-//Plone.org//NONSGML plone.app.event//EN
X-WR-TIMEZONE:Europe/Berlin
BEGIN:VEVENT
SUMMARY:MeDiMi IMPULS: Seenotrettung als Menschenrechtspraxis an Europas G
 renzen
DTSTART;TZID=Europe/Berlin:20231108T180000
DTEND;TZID=Europe/Berlin:20231108T200000
DTSTAMP:20260420T083455Z
UID:c3fb2e02d5e7457385cddb4ca520046b@www.uni-marburg.de
ATTENDEE;CN="SANDRA HAMMAMY ∙ Sea-Watch e.V.";ROLE=REQ-PARTICIPANT:SANDR
 A HAMMAMY ∙ Sea-Watch e.V.
CREATED:20231025T141907Z
DESCRIPTION:https://www.uni-marburg.de/de/konfliktforschung/aktuelles/term
 ine/2023/medimi-impuls\n
LAST-MODIFIED:20240311T145939Z
LOCATION:Margarete-Bieber-Saal\, Ludwigstr. 34\, 35390 Gießen
URL:https://www.uni-marburg.de/de/konfliktforschung/aktuelles/termine/2023
 /medimi-impuls
END:VEVENT
BEGIN:VTIMEZONE
TZID:Europe/Berlin
X-LIC-LOCATION:Europe/Berlin
BEGIN:STANDARD
DTSTART:20231029T020000
TZNAME:CET
TZOFFSETFROM:+0200
TZOFFSETTO:+0100
END:STANDARD
END:VTIMEZONE
END:VCALENDAR
