BEGIN:VCALENDAR
VERSION:2.0
PRODID:-//Plone.org//NONSGML plone.app.event//EN
X-WR-TIMEZONE:Europe/Berlin
BEGIN:VEVENT
SUMMARY:MeDiMi Lecture "Der Kampf um die Menschenrechte von Migrantinnen u
 nd Migranten – aus Sicht eines Straßburger Richters"
DTSTART;TZID=Europe/Berlin:20230713T180000
DTSTAMP:20260425T224859Z
UID:ffb9d4ebe0104b20ade9046a438e093c@www.uni-marburg.de
ATTENDEE;CN="Dr. Andreas Zünd";ROLE=REQ-PARTICIPANT:Dr. Andreas Zünd
ATTENDEE;CN="Richter am Europäischen Gerichtshof für Menschenrechte (EGM
 R)";ROLE=REQ-PARTICIPANT:Richter am Europäischen Gerichtshof für Mensche
 nrechte (EGMR)
CREATED:20230629T073904Z
DESCRIPTION:https://www.uni-marburg.de/de/konfliktforschung/aktuelles/term
 ine/2023/medimi-lecture-der-kampf-um-die-menschenrechte-von-migrantinnen-u
 nd-migranten-aus-sicht-eines-strassburger-richters\n
LAST-MODIFIED:20240311T145948Z
LOCATION:Justus-Liebig-Universität Gießen\, Alte Universitätsbibliothek
  Raum AUB 1\, Bismarckstraße 37\, 35390 Gießen
URL:https://www.uni-marburg.de/de/konfliktforschung/aktuelles/termine/2023
 /medimi-lecture-der-kampf-um-die-menschenrechte-von-migrantinnen-und-migra
 nten-aus-sicht-eines-strassburger-richters
END:VEVENT
BEGIN:VTIMEZONE
TZID:Europe/Berlin
X-LIC-LOCATION:Europe/Berlin
BEGIN:DAYLIGHT
DTSTART:20230326T030000
TZNAME:CEST
TZOFFSETFROM:+0100
TZOFFSETTO:+0200
END:DAYLIGHT
END:VTIMEZONE
END:VCALENDAR
