BEGIN:VCALENDAR
VERSION:2.0
PRODID:-//Plone.org//NONSGML plone.app.event//EN
X-WR-TIMEZONE:Europe/Berlin
BEGIN:VEVENT
SUMMARY:Die Krise der Repräsentation und die reflexive Wende in der Migra
 tionsforschung
DTSTART;TZID=Europe/Berlin:20240131T180000
DTEND;TZID=Europe/Berlin:20240131T200000
DTSTAMP:20260425T185119Z
UID:d61c433bbfea4e85b8400e2a2eefaf1e@www.uni-marburg.de
ATTENDEE;CN="Vortrag und Diskussion mit Prof. Dr. Boris Nieswand (Eberhard
  Karls Universität Tübingen)";ROLE=REQ-PARTICIPANT:Vortrag und Diskussio
 n mit Prof. Dr. Boris Nieswand (Eberhard Karls Universität Tübingen)
CREATED:20231025T143100Z
DESCRIPTION:https://www.uni-marburg.de/de/konfliktforschung/aktuelles/term
 ine/2023/medimi-lecture-die-krise-der-repraesentation-und-die-refl-exive-w
 ende-in-der-migrationsforschung\nVortrag und Diskussion mit Prof. Dr. Bori
 s Nieswand (Eberhard Karls Universität Tübingen)
LAST-MODIFIED:20240311T145952Z
LOCATION:Philipps-Universität Marburg | Hörsaal 201\, Biegenstraße 12\,
  35037 Marburg & Via Livestream
URL:https://www.uni-marburg.de/de/konfliktforschung/aktuelles/termine/2023
 /medimi-lecture-die-krise-der-repraesentation-und-die-refl-exive-wende-in-
 der-migrationsforschung
END:VEVENT
BEGIN:VTIMEZONE
TZID:Europe/Berlin
X-LIC-LOCATION:Europe/Berlin
BEGIN:STANDARD
DTSTART:20231029T020000
TZNAME:CET
TZOFFSETFROM:+0200
TZOFFSETTO:+0100
END:STANDARD
END:VTIMEZONE
END:VCALENDAR
