BEGIN:VCALENDAR
VERSION:2.0
PRODID:-//Plone.org//NONSGML plone.app.event//EN
X-WR-TIMEZONE:Europe/Berlin
BEGIN:VEVENT
SUMMARY:MeDiMi LECTURE: States’ Practices Before Human Rights Courts. A 
 Nordic Perspective
DTSTART;TZID=Europe/Berlin:20231122T160000
DTEND;TZID=Europe/Berlin:20231122T180000
DTSTAMP:20260424T070930Z
UID:833e53cb89c744bbb69131cc9a078f84@www.uni-marburg.de
ATTENDEE;CN="PROF. DR. THOMAS GAMMELTOFT-HANSEN";ROLE=REQ-PARTICIPANT:PROF
 . DR. THOMAS GAMMELTOFT-HANSEN
ATTENDEE;CN="University of Copenhagen";ROLE=REQ-PARTICIPANT:University of 
 Copenhagen
CREATED:20231025T142412Z
DESCRIPTION:https://www.uni-marburg.de/de/konfliktforschung/aktuelles/term
 ine/2023/medimi-lecture-states2019-practices-before-human-rights-courts-a-
 nordic-perspective\n
LAST-MODIFIED:20240311T145940Z
LOCATION:Room Alma 1\, OZW building\, 10th fl oor\, VU Amsterdam & via Liv
 estream
URL:https://www.uni-marburg.de/de/konfliktforschung/aktuelles/termine/2023
 /medimi-lecture-states2019-practices-before-human-rights-courts-a-nordic-p
 erspective
END:VEVENT
BEGIN:VTIMEZONE
TZID:Europe/Berlin
X-LIC-LOCATION:Europe/Berlin
BEGIN:STANDARD
DTSTART:20231029T020000
TZNAME:CET
TZOFFSETFROM:+0200
TZOFFSETTO:+0100
END:STANDARD
END:VTIMEZONE
END:VCALENDAR
