BEGIN:VCALENDAR
VERSION:2.0
PRODID:-//Plone.org//NONSGML plone.app.event//EN
X-WR-TIMEZONE:Europe/Berlin
BEGIN:VEVENT
SUMMARY:Gespräch: Wie kann Frieden in der Ukraine erreicht werden?
DTSTART;TZID=Europe/Berlin:20230711T100000
DTEND;TZID=Europe/Berlin:20230711T120000
DTSTAMP:20260425T220506Z
UID:e018288546774c9c906ab21244810114@www.uni-marburg.de
ATTENDEE;CN="Dr. Mariia Levchenko";ROLE=REQ-PARTICIPANT:Dr. Mariia Levchen
 ko
ATTENDEE;CN="Dr. Jose Pascal da Rocha";ROLE=REQ-PARTICIPANT:Dr. Jose Pasca
 l da Rocha
CREATED:20230706T113647Z
DESCRIPTION:https://www.uni-marburg.de/de/konfliktforschung/aktuelles/term
 ine/2023/veranstaltungseinladung-wie-kann-frieden-in-der-ukraine-erreicht-
 werden\nDas Zentrum lädt zu einem Gespräch am 11.07. mit Dr. Mariia Levc
 henko und Dr. Jose Pascal da Rocha ein. Das Thema ist die Beendigung von K
 onflikten.
LAST-MODIFIED:20240311T145943Z
LOCATION:+1/0010\, Hörsaalgebäude\, Biegenstraße 14
URL:https://www.uni-marburg.de/de/konfliktforschung/aktuelles/termine/2023
 /veranstaltungseinladung-wie-kann-frieden-in-der-ukraine-erreicht-werden
END:VEVENT
BEGIN:VTIMEZONE
TZID:Europe/Berlin
X-LIC-LOCATION:Europe/Berlin
BEGIN:DAYLIGHT
DTSTART:20230326T030000
TZNAME:CEST
TZOFFSETFROM:+0100
TZOFFSETTO:+0200
END:DAYLIGHT
END:VTIMEZONE
END:VCALENDAR
