BEGIN:VCALENDAR
VERSION:2.0
PRODID:-//Plone.org//NONSGML plone.app.event//EN
X-WR-TIMEZONE:Europe/Berlin
BEGIN:VEVENT
SUMMARY:Book Launch Roundtable: Peace and the Politics of Memory
DTSTART;TZID=Europe/Berlin:20241203T180000
DTEND;TZID=Europe/Berlin:20241203T193000
DTSTAMP:20260425T002557Z
UID:1a59c200045847e9aef8e74418672c58@www.uni-marburg.de
ATTENDEE;CN="Presenters: Annika Björkdahl, Johanna Mannergren, Stefanie K
 appler, Susanne Buckley-Zistel, Timothy Williams";ROLE=REQ-PARTICIPANT:Pre
 senters: Annika Björkdahl, Johanna Mannergren, Stefanie Kappler, Susanne 
 Buckley-Zistel, Timothy Williams
ATTENDEE;CN="Moderation: Orli Fridman";ROLE=REQ-PARTICIPANT:Moderation: Or
 li Fridman
CREATED:20241202T083950Z
DESCRIPTION:https://www.uni-marburg.de/de/konfliktforschung/aktuelles/term
 ine/2024/book-launch-roundtable-peace-and-the-politics-of-memory\nThis rou
 ndtable moderated by Orli Fridman introduces the new book Peace and the Po
 litics of Memory that explores memory politics and its impact on the quali
 ty of peace in societies transitioning from a violent past.
LAST-MODIFIED:20241202T084049Z
LOCATION:online (link below for registration)
URL:https://www.uni-marburg.de/de/konfliktforschung/aktuelles/termine/2024
 /book-launch-roundtable-peace-and-the-politics-of-memory
END:VEVENT
BEGIN:VTIMEZONE
TZID:Europe/Berlin
X-LIC-LOCATION:Europe/Berlin
BEGIN:STANDARD
DTSTART:20241027T020000
TZNAME:CET
TZOFFSETFROM:+0200
TZOFFSETTO:+0100
END:STANDARD
END:VTIMEZONE
END:VCALENDAR
