BEGIN:VCALENDAR
VERSION:2.0
PRODID:-//Plone.org//NONSGML plone.app.event//EN
X-WR-TIMEZONE:Europe/Berlin
BEGIN:VEVENT
SUMMARY:Postcolonial Hierarchies Think Lab Open Lecture and Panel at Marbu
 rg
DTSTART;TZID=Europe/Berlin:20241016T180000
DTEND;TZID=Europe/Berlin:20241016T193000
DTSTAMP:20260424T093919Z
UID:61f42e00dc964bd19448829fe4575425@www.uni-marburg.de
ATTENDEE;CN="Emma Pritchard, University of Oxford; Alvaro Okura, State Uni
 versity of Londrina (UEL/Brazil); Juliana González Villamizar, University
  of Giessen. Moderated by Prof. Susanne Buckley-Zistel";ROLE=REQ-PARTICIPA
 NT:Emma Pritchard, University of Oxford; Alvaro Okura, State University of
  Londrina (UEL/Brazil); Juliana González Villamizar, University of Giesse
 n. Moderated by Prof. Susanne Buckley-Zistel
CREATED:20241007T142515Z
DESCRIPTION:https://www.uni-marburg.de/de/konfliktforschung/aktuelles/term
 ine/2024/postcolonial-hierarchies-think-lab-open-lecture-and-panel-at-marb
 urg\n
LAST-MODIFIED:20241007T143228Z
LOCATION:Room 013\, Pilgrimstein 12
URL:https://www.uni-marburg.de/de/konfliktforschung/aktuelles/termine/2024
 /postcolonial-hierarchies-think-lab-open-lecture-and-panel-at-marburg
END:VEVENT
BEGIN:VTIMEZONE
TZID:Europe/Berlin
X-LIC-LOCATION:Europe/Berlin
BEGIN:DAYLIGHT
DTSTART:20240331T030000
TZNAME:CEST
TZOFFSETFROM:+0100
TZOFFSETTO:+0200
END:DAYLIGHT
END:VTIMEZONE
END:VCALENDAR
