BEGIN:VCALENDAR
VERSION:2.0
PRODID:-//Plone.org//NONSGML plone.app.event//EN
X-WR-TIMEZONE:Europe/Berlin
BEGIN:VEVENT
SUMMARY:Workshop: Distributive Politics in the Global South
DTSTART;TZID=Europe/Berlin:20240919T090000
DTEND;TZID=Europe/Berlin:20240920T120000
DTSTAMP:20260424T071010Z
UID:8f76d0893ca94404bb9b56523338b52d@www.uni-marburg.de
CREATED:20240912T093149Z
DESCRIPTION:https://www.uni-marburg.de/de/konfliktforschung/aktuelles/term
 ine/2024/workshop-distributive-politics-in-the-global-south\n
LAST-MODIFIED:20240912T093210Z
LOCATION:Ketzerbach 63\, +2/0140
URL:https://www.uni-marburg.de/de/konfliktforschung/aktuelles/termine/2024
 /workshop-distributive-politics-in-the-global-south
END:VEVENT
BEGIN:VTIMEZONE
TZID:Europe/Berlin
X-LIC-LOCATION:Europe/Berlin
BEGIN:DAYLIGHT
DTSTART:20240331T030000
TZNAME:CEST
TZOFFSETFROM:+0100
TZOFFSETTO:+0200
END:DAYLIGHT
END:VTIMEZONE
END:VCALENDAR
