BEGIN:VCALENDAR
VERSION:2.0
PRODID:-//Plone.org//NONSGML plone.app.event//EN
X-WR-TIMEZONE:Europe/Berlin
BEGIN:VEVENT
SUMMARY:Öffentliche Diskussionsveranstaltung: Wehrpflicht heute - Sicherh
 eitspolitik im Wandel
DTSTART;TZID=Europe/Berlin:20260428T193000
DTEND;TZID=Europe/Berlin:20260428T210000
DTSTAMP:20260425T203619Z
UID:89263c685356489eb460b6ff7476e705@www.uni-marburg.de
ATTENDEE;CN="Brigadegeneral a.D. Martin Konertz und Dr. Stefan Kroll (Peac
 e Research Institute Frankfurt)";ROLE=REQ-PARTICIPANT:Brigadegeneral a.D. 
 Martin Konertz und Dr. Stefan Kroll (Peace Research Institute Frankfurt)
ATTENDEE;CN="Moderation: Prof. Dr. Hubert Kleinert (Initiative Zeitenwende
  Marburg) & Prof. Dr. Thorsten Bonacker (Zentrum für Konfliktforschung)";
 ROLE=REQ-PARTICIPANT:Moderation: Prof. Dr. Hubert Kleinert (Initiative Zei
 tenwende Marburg) & Prof. Dr. Thorsten Bonacker (Zentrum für Konfliktfors
 chung)
CREATED:20260424T112022Z
DESCRIPTION:https://www.uni-marburg.de/de/konfliktforschung/aktuelles/term
 ine/2026/oeffentliche-diskussionsveranstaltung-wehrpflicht-heute-sicherhei
 tspolitik-im-wandel\n
LAST-MODIFIED:20260424T112057Z
LOCATION:Ersatzhörsaalgebäude\, Biegenstraße 14 in Marburg
URL:https://www.uni-marburg.de/de/konfliktforschung/aktuelles/termine/2026
 /oeffentliche-diskussionsveranstaltung-wehrpflicht-heute-sicherheitspoliti
 k-im-wandel
END:VEVENT
BEGIN:VTIMEZONE
TZID:Europe/Berlin
X-LIC-LOCATION:Europe/Berlin
BEGIN:DAYLIGHT
DTSTART:20260329T030000
TZNAME:CEST
TZOFFSETFROM:+0100
TZOFFSETTO:+0200
END:DAYLIGHT
END:VTIMEZONE
END:VCALENDAR
