BEGIN:VCALENDAR
VERSION:2.0
PRODID:-//Plone.org//NONSGML plone.app.event//EN
X-WR-TIMEZONE:Europe/Berlin
BEGIN:VEVENT
SUMMARY:INSPIRE Praktikumsbegleitung: Verknüpfung Praktikum & Studium
DTSTART;TZID=Europe/Berlin:20251210T180000
DTEND;TZID=Europe/Berlin:20251210T190000
DTSTAMP:20260425T040210Z
UID:d3c1576e88084825947ea40ca1db6b0f@www.uni-marburg.de
CATEGORIES:()
CREATED:20251105T104503Z
DESCRIPTION:https://www.uni-marburg.de/de/konfliktforschung/aktuelles/term
 ine/inspire-praktikumsbegleitung/copy2_of_inspire-praktikumsbegleitung\nVe
 rknüpfung von Praktikum und Studium - Reflektionsmethoden
LAST-MODIFIED:20251107T104512Z
LOCATION:online - https://webconf.hrz.uni-marburg.de/n/rooms/7i8-f12-l95-8
 pz/join
URL:https://www.uni-marburg.de/de/konfliktforschung/aktuelles/termine/insp
 ire-praktikumsbegleitung/copy2_of_inspire-praktikumsbegleitung
END:VEVENT
BEGIN:VTIMEZONE
TZID:Europe/Berlin
X-LIC-LOCATION:Europe/Berlin
BEGIN:STANDARD
DTSTART:20251026T020000
TZNAME:CET
TZOFFSETFROM:+0200
TZOFFSETTO:+0100
END:STANDARD
END:VTIMEZONE
END:VCALENDAR
