BEGIN:VCALENDAR
VERSION:2.0
PRODID:-//Plone.org//NONSGML plone.app.event//EN
X-WR-TIMEZONE:Europe/Berlin
BEGIN:VEVENT
SUMMARY:INSPIRE Praktikumsbegleitung: NGO in Lomé\; Deutsche Botschaft in
  Cotonou
DTSTART;TZID=Europe/Berlin:20260204T180000
DTEND;TZID=Europe/Berlin:20260204T190000
DTSTAMP:20260425T033745Z
UID:ad1adf1ec0be45f1805b883ce33b88d6@www.uni-marburg.de
CATEGORIES:()
CREATED:20251105T104503Z
DESCRIPTION:https://www.uni-marburg.de/de/konfliktforschung/aktuelles/term
 ine/inspire-praktikumsbegleitung/copy5_of_inspire-praktikumsbegleitung\nVo
 rtrag zum Praktikum: NGO in Lomé\; Deutsche Botschaft in Cotonou
LAST-MODIFIED:20260127T095102Z
LOCATION:online - https://webconf.hrz.uni-marburg.de/n/rooms/7i8-f12-l95-8
 pz/join
URL:https://www.uni-marburg.de/de/konfliktforschung/aktuelles/termine/insp
 ire-praktikumsbegleitung/copy5_of_inspire-praktikumsbegleitung
END:VEVENT
BEGIN:VTIMEZONE
TZID:Europe/Berlin
X-LIC-LOCATION:Europe/Berlin
BEGIN:STANDARD
DTSTART:20251026T020000
TZNAME:CET
TZOFFSETFROM:+0200
TZOFFSETTO:+0100
END:STANDARD
END:VTIMEZONE
END:VCALENDAR
